BEGIN:VCALENDAR
VERSION:2.0
PRODID:-//hacksw/handcal//NONSGML v1.0//EN
CALSCALE:GREGORIAN
BEGIN:VEVENT
SUMMARY:Evento Virtual &#8211\; La alimentación en tiempos de pandemia: sin pensamiento mágico
LOCATION:
DESCRIPTION:
DTSTART:20200602T000000Z
DTEND:20200602T000000Z
URL;VALUE=URI:
DTSTAMP:20260424T205042Z
UID:69ebd7a2bf035
END:VEVENT
END:VCALENDAR