BEGIN:VCALENDAR
VERSION:2.0
PRODID:-//hacksw/handcal//NONSGML v1.0//EN
CALSCALE:GREGORIAN
BEGIN:VEVENT
SUMMARY:Virtual Book Launch: Rivers of Power
LOCATION:
DESCRIPTION:
DTSTART:20200611T000000Z
DTEND:20200611T000000Z
URL;VALUE=URI:
DTSTAMP:20260420T201208Z
UID:69e688982ccaf
END:VEVENT
END:VCALENDAR