BEGIN:VCALENDAR
VERSION:2.0
PRODID:-//hacksw/handcal//NONSGML v1.0//EN
CALSCALE:GREGORIAN
BEGIN:VEVENT
SUMMARY:SADC Futures Webinar Series
LOCATION:
DESCRIPTION:
DTSTART:20200617T000000Z
DTEND:20200722T000000Z
URL;VALUE=URI:
DTSTAMP:20260421T034539Z
UID:69e6f2e3a035b
END:VEVENT
END:VCALENDAR