BEGIN:VCALENDAR
VERSION:2.0
PRODID:-//hacksw/handcal//NONSGML v1.0//EN
CALSCALE:GREGORIAN
BEGIN:VEVENT
SUMMARY:CGIAR Webinar Series on Climate Security: The role of climate and food systems science in conflict prevention and peace-building
LOCATION:
DESCRIPTION:
DTSTART:20200604T000000Z
DTEND:20200604T000000Z
URL;VALUE=URI:
DTSTAMP:20260423T200633Z
UID:69ea7bc99a4b2
END:VEVENT
END:VCALENDAR