BEGIN:VCALENDAR
VERSION:2.0
PRODID:-//hacksw/handcal//NONSGML v1.0//EN
CALSCALE:GREGORIAN
BEGIN:VEVENT
SUMMARY:CGIAR Webinar Series on Climate Security: The importance of data and new technologies for climate security
LOCATION:
DESCRIPTION:
DTSTART:20200618T000000Z
DTEND:20200618T000000Z
URL;VALUE=URI:
DTSTAMP:20260420T141413Z
UID:69e634b5ebe55
END:VEVENT
END:VCALENDAR