BEGIN:VCALENDAR
VERSION:2.0
PRODID:-//hacksw/handcal//NONSGML v1.0//EN
CALSCALE:GREGORIAN
BEGIN:VEVENT
SUMMARY:CGIAR Webinar Series on Climate Security: Sustainable finance for peace
LOCATION:
DESCRIPTION:
DTSTART:20200702T000000Z
DTEND:20200702T000000Z
URL;VALUE=URI:
DTSTAMP:20260420T141434Z
UID:69e634ca0fe93
END:VEVENT
END:VCALENDAR