BEGIN:VCALENDAR
VERSION:2.0
PRODID:-//hacksw/handcal//NONSGML v1.0//EN
CALSCALE:GREGORIAN
BEGIN:VEVENT
SUMMARY:CGIAR Webinar Series on Climate Security: Climate Security in Colombia
LOCATION:
DESCRIPTION:
DTSTART:20200917T000000Z
DTEND:20200917T000000Z
URL;VALUE=URI:
DTSTAMP:20260420T141418Z
UID:69e634baf31e6
END:VEVENT
END:VCALENDAR