BEGIN:VCALENDAR
VERSION:2.0
PRODID:-//hacksw/handcal//NONSGML v1.0//EN
CALSCALE:GREGORIAN
BEGIN:VEVENT
SUMMARY:CGIAR Webinar Series on Climate Security: A Partnership Agenda for Climate Security
LOCATION:
DESCRIPTION:
DTSTART:20201001T000000Z
DTEND:20201001T000000Z
URL;VALUE=URI:
DTSTAMP:20260424T145350Z
UID:69eb83fe8dc2d
END:VEVENT
END:VCALENDAR