BEGIN:VCALENDAR
VERSION:2.0
PRODID:-//hacksw/handcal//NONSGML v1.0//EN
CALSCALE:GREGORIAN
BEGIN:VEVENT
SUMMARY:Small is Bountiful: Small-scale fisheries as a nexus of SDGs to ensure a future we want
LOCATION:
DESCRIPTION:
DTSTART:20200603T000000Z
DTEND:20200603T000000Z
URL;VALUE=URI:
DTSTAMP:20260420T141423Z
UID:69e634bfeae56
END:VEVENT
END:VCALENDAR