BEGIN:VCALENDAR
VERSION:2.0
PRODID:-//hacksw/handcal//NONSGML v1.0//EN
CALSCALE:GREGORIAN
BEGIN:VEVENT
SUMMARY:Small is Bountiful: From Words to Action: Using the SSF Guidelines and Human Rights for Sustainable Small-Scale Fisheries
LOCATION:
DESCRIPTION:
DTSTART:20200604T000000Z
DTEND:20200604T000000Z
URL;VALUE=URI:
DTSTAMP:20260421T034535Z
UID:69e6f2df39f30
END:VEVENT
END:VCALENDAR