BEGIN:VCALENDAR
VERSION:2.0
PRODID:-//hacksw/handcal//NONSGML v1.0//EN
CALSCALE:GREGORIAN
BEGIN:VEVENT
SUMMARY:Small is Bountiful 24-Hour Event: Small-Scale Fisheries As A Nexus Of SDGs – The Future We Want
LOCATION:
DESCRIPTION:
DTSTART:20200608T000000Z
DTEND:20200608T000000Z
URL;VALUE=URI:
DTSTAMP:20260420T141428Z
UID:69e634c4e66cb
END:VEVENT
END:VCALENDAR