BEGIN:VCALENDAR
VERSION:2.0
PRODID:-//hacksw/handcal//NONSGML v1.0//EN
CALSCALE:GREGORIAN
BEGIN:VEVENT
SUMMARY:Special FAO Seminar on Food and Nutrition: Urgent call for agri-food systems transformation to achieve healthy diets for all
LOCATION:
DESCRIPTION:
DTSTART:20201125T000000Z
DTEND:20201125T000000Z
URL;VALUE=URI:
DTSTAMP:20260426T031707Z
UID:69ed83b3e4453
END:VEVENT
END:VCALENDAR