BEGIN:VCALENDAR
VERSION:2.0
PRODID:-//hacksw/handcal//NONSGML v1.0//EN
CALSCALE:GREGORIAN
BEGIN:VEVENT
SUMMARY:UN Food Systems Summit Action Track 4: Advance Equitable Livelihoods &#8211\; Public Forum
LOCATION:
DESCRIPTION:
DTSTART:20201201T000000Z
DTEND:20201201T000000Z
URL;VALUE=URI:
DTSTAMP:20260420T141537Z
UID:69e63509c2bd0
END:VEVENT
END:VCALENDAR