BEGIN:VCALENDAR
VERSION:2.0
PRODID:-//hacksw/handcal//NONSGML v1.0//EN
CALSCALE:GREGORIAN
BEGIN:VEVENT
SUMMARY:Ocean Panel: Sustainable Ocean Economy Global Launch &#038\; Follow the Sun National Events
LOCATION:
DESCRIPTION:
DTSTART:20201203T000000Z
DTEND:20201204T000000Z
URL;VALUE=URI:
DTSTAMP:20260420T173736Z
UID:69e66460f1c16
END:VEVENT
END:VCALENDAR