BEGIN:VCALENDAR
VERSION:2.0
PRODID:-//hacksw/handcal//NONSGML v1.0//EN
CALSCALE:GREGORIAN
BEGIN:VEVENT
SUMMARY:Virtual Event &#8211\; Food and Agricultural Trade in the New Policy Environment: How Can WTO Members Support Recovery and Resilience in Africa (English panel)?
LOCATION:
DESCRIPTION:
DTSTART:20201208T000000Z
DTEND:20201208T000000Z
URL;VALUE=URI:
DTSTAMP:20260420T222802Z
UID:69e6a87247c43
END:VEVENT
END:VCALENDAR