BEGIN:VCALENDAR
VERSION:2.0
PRODID:-//hacksw/handcal//NONSGML v1.0//EN
CALSCALE:GREGORIAN
BEGIN:VEVENT
SUMMARY:3rd Global Conference of the Sustainable Food Systems Programme
LOCATION:
DESCRIPTION:
DTSTART:20201125T000000Z
DTEND:20201203T000000Z
URL;VALUE=URI:
DTSTAMP:20260420T222742Z
UID:69e6a85e17829
END:VEVENT
END:VCALENDAR