BEGIN:VCALENDAR
VERSION:2.0
PRODID:-//hacksw/handcal//NONSGML v1.0//EN
CALSCALE:GREGORIAN
BEGIN:VEVENT
SUMMARY:SLU Future Food and SLU Global: COVID-19’s Effects on Global Food Systems and How to Respond
LOCATION:
DESCRIPTION:
DTSTART:20201203T000000Z
DTEND:20201203T000000Z
URL;VALUE=URI:
DTSTAMP:20260420T222737Z
UID:69e6a8590f17c
END:VEVENT
END:VCALENDAR