BEGIN:VCALENDAR
VERSION:2.0
PRODID:-//hacksw/handcal//NONSGML v1.0//EN
CALSCALE:GREGORIAN
BEGIN:VEVENT
SUMMARY:Book Launch: Gender and Agriculture Handbook
LOCATION:
DESCRIPTION:
DTSTART:20201203T000000Z
DTEND:20201203T000000Z
URL;VALUE=URI:
DTSTAMP:20260421T014819Z
UID:69e6d763917b1
END:VEVENT
END:VCALENDAR