BEGIN:VCALENDAR
VERSION:2.0
PRODID:-//hacksw/handcal//NONSGML v1.0//EN
CALSCALE:GREGORIAN
BEGIN:VEVENT
SUMMARY:Beyond COVID-19: Recommendations from Five Years of Policy Research in Egypt and Directions for the Future
LOCATION:
DESCRIPTION:
DTSTART:20201208T000000Z
DTEND:20201208T000000Z
URL;VALUE=URI:
DTSTAMP:20260420T141547Z
UID:69e6351331739
END:VEVENT
END:VCALENDAR