BEGIN:VCALENDAR
VERSION:2.0
PRODID:-//hacksw/handcal//NONSGML v1.0//EN
CALSCALE:GREGORIAN
BEGIN:VEVENT
SUMMARY:Climate resilient food systems for Africa: From evidence to action
LOCATION:
DESCRIPTION:
DTSTART:20210113T000000Z
DTEND:20201218T000000Z
URL;VALUE=URI:
DTSTAMP:20260420T222812Z
UID:69e6a87c268d4
END:VEVENT
END:VCALENDAR