BEGIN:VCALENDAR
VERSION:2.0
PRODID:-//hacksw/handcal//NONSGML v1.0//EN
CALSCALE:GREGORIAN
BEGIN:VEVENT
SUMMARY:Fish for Progress: Investor Forum Meeting
LOCATION:
DESCRIPTION:
DTSTART:20201214T000000Z
DTEND:20201214T000000Z
URL;VALUE=URI:
DTSTAMP:20260421T014829Z
UID:69e6d76d5f542
END:VEVENT
END:VCALENDAR