BEGIN:VCALENDAR
VERSION:2.0
PRODID:-//hacksw/handcal//NONSGML v1.0//EN
CALSCALE:GREGORIAN
BEGIN:VEVENT
SUMMARY:Virtual Event &#8211\; The African Continental Free Trade Area: How will economic distribution change?
LOCATION:
DESCRIPTION:
DTSTART:20201215T000000Z
DTEND:20201215T000000Z
URL;VALUE=URI:
DTSTAMP:20260422T082431Z
UID:69e885bfafeb8
END:VEVENT
END:VCALENDAR