BEGIN:VCALENDAR
VERSION:2.0
PRODID:-//hacksw/handcal//NONSGML v1.0//EN
CALSCALE:GREGORIAN
BEGIN:VEVENT
SUMMARY:SAFET Session #3 Virtual Conference: Technologies for Small Scale Fisheries
LOCATION:
DESCRIPTION:
DTSTART:20201217T000000Z
DTEND:20201217T000000Z
URL;VALUE=URI:
DTSTAMP:20260423T234237Z
UID:69eaae6db5b24
END:VEVENT
END:VCALENDAR