BEGIN:VCALENDAR
VERSION:2.0
PRODID:-//hacksw/handcal//NONSGML v1.0//EN
CALSCALE:GREGORIAN
BEGIN:VEVENT
SUMMARY:Episode 3 of EAT@Home: How small-scale food producers can receive their fair share
LOCATION:
DESCRIPTION:
DTSTART:20201208T000000Z
DTEND:20201208T000000Z
URL;VALUE=URI:
DTSTAMP:20260426T031712Z
UID:69ed83b85c11b
END:VEVENT
END:VCALENDAR