BEGIN:VCALENDAR
VERSION:2.0
PRODID:-//hacksw/handcal//NONSGML v1.0//EN
CALSCALE:GREGORIAN
BEGIN:VEVENT
SUMMARY:Food and Agricultural Trade in the New Policy Environment: How Can WTO Members Support Recovery and Resilience in South Asia?
LOCATION:
DESCRIPTION:
DTSTART:20201217T000000Z
DTEND:20201217T000000Z
URL;VALUE=URI:
DTSTAMP:20260422T130734Z
UID:69e8c8164a26b
END:VEVENT
END:VCALENDAR