BEGIN:VCALENDAR
VERSION:2.0
PRODID:-//hacksw/handcal//NONSGML v1.0//EN
CALSCALE:GREGORIAN
BEGIN:VEVENT
SUMMARY:Climate Adaptation in Food Systems: Lessons from youth led science-based social movements
LOCATION:
DESCRIPTION:
DTSTART:20210122T000000Z
DTEND:20210122T000000Z
URL;VALUE=URI:
DTSTAMP:20260421T014835Z
UID:69e6d7731af31
END:VEVENT
END:VCALENDAR