BEGIN:VCALENDAR
VERSION:2.0
PRODID:-//hacksw/handcal//NONSGML v1.0//EN
CALSCALE:GREGORIAN
BEGIN:VEVENT
SUMMARY:Virtual Event &#8211\; Building back better: How can public food and agricultural research institutions be strengthened and rebuilt after the COVID-19 pandemic?
LOCATION:
DESCRIPTION:
DTSTART:20210202T000000Z
DTEND:20210202T000000Z
URL;VALUE=URI:
DTSTAMP:20260422T112553Z
UID:69e8b041516d5
END:VEVENT
END:VCALENDAR