BEGIN:VCALENDAR
VERSION:2.0
PRODID:-//hacksw/handcal//NONSGML v1.0//EN
CALSCALE:GREGORIAN
BEGIN:VEVENT
SUMMARY:Forest tenure pathways to gender equality: A practitioner’s guide
LOCATION:
DESCRIPTION:
DTSTART:20210129T000000Z
DTEND:20210129T000000Z
URL;VALUE=URI:
DTSTAMP:20260424T221240Z
UID:69ebead864df6
END:VEVENT
END:VCALENDAR