BEGIN:VCALENDAR
VERSION:2.0
PRODID:-//hacksw/handcal//NONSGML v1.0//EN
CALSCALE:GREGORIAN
BEGIN:VEVENT
SUMMARY:Global Panel Policy Brief Launch: Harnessing Aquaculture for Healthy Diets
LOCATION:
DESCRIPTION:
DTSTART:20210215T000000Z
DTEND:20210215T000000Z
URL;VALUE=URI:
DTSTAMP:20260424T024107Z
UID:69ead843da17f
END:VEVENT
END:VCALENDAR