BEGIN:VCALENDAR
VERSION:2.0
PRODID:-//hacksw/handcal//NONSGML v1.0//EN
CALSCALE:GREGORIAN
BEGIN:VEVENT
SUMMARY:CFS 47 Side-Event: Transforming Agricultural Innovation for People\, Nature and Climate
LOCATION:
DESCRIPTION:
DTSTART:20210208T000000Z
DTEND:20210208T000000Z
URL;VALUE=URI:
DTSTAMP:20260420T215534Z
UID:69e6a0d6764d2
END:VEVENT
END:VCALENDAR