BEGIN:VCALENDAR
VERSION:2.0
PRODID:-//hacksw/handcal//NONSGML v1.0//EN
CALSCALE:GREGORIAN
BEGIN:VEVENT
SUMMARY:The Big Fish Series: Impacts of COVID-19 on Seafood Value Chains
LOCATION:
DESCRIPTION:
DTSTART:20260424T234111Z
DTEND:20260424T234111Z
URL;VALUE=URI:
DTSTAMP:20260424T234111Z
UID:69ebff97291a4
END:VEVENT
END:VCALENDAR