BEGIN:VCALENDAR
VERSION:2.0
PRODID:-//hacksw/handcal//NONSGML v1.0//EN
CALSCALE:GREGORIAN
BEGIN:VEVENT
SUMMARY:Small Low-cost Fish: From Bait to Plate
LOCATION:
DESCRIPTION:
DTSTART:20260425T210549Z
DTEND:20260425T210549Z
URL;VALUE=URI:
DTSTAMP:20260425T210549Z
UID:69ed2cad6c9de
END:VEVENT
END:VCALENDAR