BEGIN:VCALENDAR
VERSION:2.0
PRODID:-//hacksw/handcal//NONSGML v1.0//EN
CALSCALE:GREGORIAN
BEGIN:VEVENT
SUMMARY:ADB Water Watch: Science and Innovation for a Water-Secure Future for All
LOCATION:
DESCRIPTION:
DTSTART:20260425T213341Z
DTEND:20260425T213341Z
URL;VALUE=URI:
DTSTAMP:20260425T213341Z
UID:69ed33356564c
END:VEVENT
END:VCALENDAR