BEGIN:VCALENDAR
VERSION:2.0
PRODID:-//hacksw/handcal//NONSGML v1.0//EN
CALSCALE:GREGORIAN
BEGIN:VEVENT
SUMMARY:Food systems lessons from COVID-19: From understanding fragilities to building resilience
LOCATION:
DESCRIPTION:
DTSTART:20210302T000000Z
DTEND:20210302T000000Z
URL;VALUE=URI:
DTSTAMP:20260424T221237Z
UID:69ebead5000f9
END:VEVENT
END:VCALENDAR