BEGIN:VCALENDAR
VERSION:2.0
PRODID:-//hacksw/handcal//NONSGML v1.0//EN
CALSCALE:GREGORIAN
BEGIN:VEVENT
SUMMARY:Socio-Technical Innovation Bundles for Agri-Food Systems Transformation: Implications for research and the One CGIAR agenda
LOCATION:
DESCRIPTION:
DTSTART:20210319T000000Z
DTEND:20210319T000000Z
URL;VALUE=URI:
DTSTAMP:20260420T173746Z
UID:69e6646a6c417
END:VEVENT
END:VCALENDAR