BEGIN:VCALENDAR
VERSION:2.0
PRODID:-//hacksw/handcal//NONSGML v1.0//EN
CALSCALE:GREGORIAN
BEGIN:VEVENT
SUMMARY:Building Forward Better: World Food Prize Laureates Mobilizing for Food Systems Action
LOCATION:
DESCRIPTION:
DTSTART:20210325T000000Z
DTEND:20210325T000000Z
URL;VALUE=URI:
DTSTAMP:20260420T201203Z
UID:69e68893a6b05
END:VEVENT
END:VCALENDAR