BEGIN:VCALENDAR
VERSION:2.0
PRODID:-//hacksw/handcal//NONSGML v1.0//EN
CALSCALE:GREGORIAN
BEGIN:VEVENT
SUMMARY:Tackling Child Undernutrition at Scale: Insights from national and subnational success cases
LOCATION:
DESCRIPTION:
DTSTART:20210401T000000Z
DTEND:20210401T000000Z
URL;VALUE=URI:
DTSTAMP:20260424T222115Z
UID:69ebecdb91eb3
END:VEVENT
END:VCALENDAR