BEGIN:VCALENDAR
VERSION:2.0
PRODID:-//hacksw/handcal//NONSGML v1.0//EN
CALSCALE:GREGORIAN
BEGIN:VEVENT
SUMMARY:CGIAR @ TropAg 2022
LOCATION:
DESCRIPTION:
DTSTART:20221031T000000Z
DTEND:20221102T000000Z
URL;VALUE=URI:
DTSTAMP:20260420T141454Z
UID:69e634de02718
END:VEVENT
END:VCALENDAR