BEGIN:VCALENDAR
VERSION:2.0
PRODID:-//hacksw/handcal//NONSGML v1.0//EN
CALSCALE:GREGORIAN
BEGIN:VEVENT
SUMMARY:In a global food crisis\, Africa&#8217\;s opportunity for a climate-smart future
LOCATION:
DESCRIPTION:
DTSTART:20220922T000000Z
DTEND:20220922T000000Z
URL;VALUE=URI:
DTSTAMP:20260424T023554Z
UID:69ead70af1057
END:VEVENT
END:VCALENDAR