BEGIN:VCALENDAR
VERSION:2.0
PRODID:-//hacksw/handcal//NONSGML v1.0//EN
CALSCALE:GREGORIAN
BEGIN:VEVENT
SUMMARY:CGIAR @ FAO Science and Innovation Forum
LOCATION:
DESCRIPTION:
DTSTART:20221017T000000Z
DTEND:20221021T000000Z
URL;VALUE=URI:
DTSTAMP:20260426T014252Z
UID:69ed6d9c2e8f4
END:VEVENT
END:VCALENDAR