BEGIN:VCALENDAR
VERSION:2.0
PRODID:-//hacksw/handcal//NONSGML v1.0//EN
CALSCALE:GREGORIAN
BEGIN:VEVENT
SUMMARY:1st High-level Dialogue on Gender and Climate Change in Africa 
LOCATION:
DESCRIPTION:
DTSTART:20221007T000000Z
DTEND:20221007T000000Z
URL;VALUE=URI:
DTSTAMP:20260426T031722Z
UID:69ed83c252073
END:VEVENT
END:VCALENDAR