BEGIN:VCALENDAR
VERSION:2.0
PRODID:-//hacksw/handcal//NONSGML v1.0//EN
CALSCALE:GREGORIAN
BEGIN:VEVENT
SUMMARY:ISDC Side Event at FAO Science and Innovation Forum 2022: QoR4D to Strengthen Institutional Innovation
LOCATION:
DESCRIPTION:
DTSTART:20221013T000000Z
DTEND:20220913T000000Z
URL;VALUE=URI:
DTSTAMP:20260423T221517Z
UID:69ea99f5247ab
END:VEVENT
END:VCALENDAR