BEGIN:VCALENDAR
VERSION:2.0
PRODID:-//hacksw/handcal//NONSGML v1.0//EN
CALSCALE:GREGORIAN
BEGIN:VEVENT
SUMMARY:ISDC Symposium at TropAg Conference: Building Inclusive Innovation in International Development
LOCATION:
DESCRIPTION:
DTSTART:20221101T000000Z
DTEND:20221101T000000Z
URL;VALUE=URI:
DTSTAMP:20260425T192603Z
UID:69ed154b5c29a
END:VEVENT
END:VCALENDAR