BEGIN:VCALENDAR
VERSION:2.0
PRODID:-//hacksw/handcal//NONSGML v1.0//EN
CALSCALE:GREGORIAN
BEGIN:VEVENT
SUMMARY:Sustainable livestock production as a solution for climate\, health\, nutrition and livelihoods
LOCATION:
DESCRIPTION:
DTSTART:20221013T000000Z
DTEND:20221013T000000Z
URL;VALUE=URI:
DTSTAMP:20260424T052252Z
UID:69eafe2ca949a
END:VEVENT
END:VCALENDAR