BEGIN:VCALENDAR
VERSION:2.0
PRODID:-//hacksw/handcal//NONSGML v1.0//EN
CALSCALE:GREGORIAN
BEGIN:VEVENT
SUMMARY:Multiple-Win Solutions to the Global Food Crisis: CGIAR Side Event @ 2022 Borlaug Dialogue
LOCATION:
DESCRIPTION:
DTSTART:20221019T000000Z
DTEND:20221019T000000Z
URL;VALUE=URI:
DTSTAMP:20260424T093840Z
UID:69eb3a204cf3f
END:VEVENT
END:VCALENDAR