BEGIN:VCALENDAR
VERSION:2.0
PRODID:-//hacksw/handcal//NONSGML v1.0//EN
CALSCALE:GREGORIAN
BEGIN:VEVENT
SUMMARY:CGIAR @ FAO Global Conference on Sustainable Plant Production
LOCATION:
DESCRIPTION:
DTSTART:20221102T000000Z
DTEND:20221104T000000Z
URL;VALUE=URI:
DTSTAMP:20260424T010911Z
UID:69eac2b7529e7
END:VEVENT
END:VCALENDAR