BEGIN:VCALENDAR
VERSION:2.0
PRODID:-//hacksw/handcal//NONSGML v1.0//EN
CALSCALE:GREGORIAN
BEGIN:VEVENT
SUMMARY:Accelerated Action for Food Systems Resilience: Egypt’s plans for COP27 and the role of CGIAR
LOCATION:
DESCRIPTION:
DTSTART:20221020T000000Z
DTEND:20221020T000000Z
URL;VALUE=URI:
DTSTAMP:20260423T234241Z
UID:69eaae71b824b
END:VEVENT
END:VCALENDAR