BEGIN:VCALENDAR
VERSION:2.0
PRODID:-//hacksw/handcal//NONSGML v1.0//EN
CALSCALE:GREGORIAN
BEGIN:VEVENT
SUMMARY:Upcoming SHiFT Launch in Bangladesh
LOCATION:
DESCRIPTION:
DTSTART:20221109T000000Z
DTEND:20260426T031717Z
URL;VALUE=URI:
DTSTAMP:20260426T031717Z
UID:69ed83bd5c209
END:VEVENT
END:VCALENDAR