BEGIN:VCALENDAR
VERSION:2.0
PRODID:-//hacksw/handcal//NONSGML v1.0//EN
CALSCALE:GREGORIAN
BEGIN:VEVENT
SUMMARY:International Week of Peace and Science: Fireside Chat with Hon. Sharon Burke\, hosted by Bram Govaerts
LOCATION:
DESCRIPTION:
DTSTART:20221108T000000Z
DTEND:20221108T000000Z
URL;VALUE=URI:
DTSTAMP:20260424T010915Z
UID:69eac2bbb65fd
END:VEVENT
END:VCALENDAR