BEGIN:VCALENDAR
VERSION:2.0
PRODID:-//hacksw/handcal//NONSGML v1.0//EN
CALSCALE:GREGORIAN
BEGIN:VEVENT
SUMMARY:CGIAR Initiative on Transforming Agrifood Systems in South Asia (TAFSSA)
LOCATION:
DESCRIPTION:
DTSTART:20221027T000000Z
DTEND:20260424T212011Z
URL;VALUE=URI:
DTSTAMP:20260424T212011Z
UID:69ebde8be018b
END:VEVENT
END:VCALENDAR